BEGIN:VCALENDAR
VERSION:2.0
PRODID:-//wp-events-plugin.com//7.2.3.1//EN
TZID:Europe/Berlin
X-WR-TIMEZONE:Europe/Berlin
BEGIN:VEVENT
UID:1057@kleefeld-buchholz.vcp-nds.de
DTSTART;TZID=Europe/Berlin;VALUE=DATE:20260730
DTEND;TZID=Europe/Berlin;VALUE=DATE:20260809
DTSTAMP:20251008T114713Z
URL:https://kleefeld-buchholz.vcp-nds.de/veranstaltungen/bundeslager-2026/
SUMMARY:Bundeslager 2026
DESCRIPTION:
CATEGORIES:VCP Bezirk Hannover,VCP Bund,VCP Kleefeld-Buchholz,VCP Land
 Niedersachsen
LOCATION:Jugendzeltplatz Almke\, Volkmarsdorfer Straße 100\, Wolfsburg\, N
 iedersachsen \, 38446\, Deutschland
X-APPLE-STRUCTURED-LOCATION;VALUE=URI;X-ADDRESS=Volkmarsdorfer Straße 100\
 , Wolfsburg\, Niedersachsen \, 38446\, Deutschland;X-APPLE-RADIUS=100;X-TI
 TLE=Jugendzeltplatz Almke:geo:0,0
END:VEVENT
BEGIN:VTIMEZONE
TZID:Europe/Berlin
X-LIC-LOCATION:Europe/Berlin
BEGIN:DAYLIGHT
DTSTART:20260329T030000
TZOFFSETFROM:+0100
TZOFFSETTO:+0200
TZNAME:CEST
END:DAYLIGHT
END:VTIMEZONE
END:VCALENDAR