BEGIN:VCALENDAR
VERSION:2.0
PRODID:-//wp-events-plugin.com//7.2.3.1//EN
TZID:Europe/Berlin
X-WR-TIMEZONE:Europe/Berlin
BEGIN:VEVENT
UID:1075@kleefeld-buchholz.vcp-nds.de
DTSTART;TZID=Europe/Berlin;VALUE=DATE:20261213
DTEND;TZID=Europe/Berlin;VALUE=DATE:20261214
DTSTAMP:20251229T101337Z
URL:https://kleefeld-buchholz.vcp-nds.de/veranstaltungen/friedenslicht-202
 6/
SUMMARY:Friedenslicht 2026
DESCRIPTION:
CATEGORIES:Ring Deutscher Pfadfinder*innenverbände,VCP Bezirk
 Hannover,VCP Bund,VCP Kleefeld-Buchholz,VCP Land Niedersachsen
LOCATION:Auferstehungsgemeinde Döhren\, Helmstedter Straße 59\, Hannover\
 , Niedersachsen\, 30519\, Deutschland
X-APPLE-STRUCTURED-LOCATION;VALUE=URI;X-ADDRESS=Helmstedter Straße 59\, Ha
 nnover\, Niedersachsen\, 30519\, Deutschland;X-APPLE-RADIUS=100;X-TITLE=Au
 ferstehungsgemeinde Döhren:geo:0,0
END:VEVENT
BEGIN:VTIMEZONE
TZID:Europe/Berlin
X-LIC-LOCATION:Europe/Berlin
BEGIN:STANDARD
DTSTART:20261025T020000
TZOFFSETFROM:+0200
TZOFFSETTO:+0100
TZNAME:CET
END:STANDARD
END:VTIMEZONE
END:VCALENDAR