BEGIN:VCALENDAR
VERSION:2.0
PRODID:-//wp-events-plugin.com//7.2.3.1//EN
TZID:Europe/Berlin
X-WR-TIMEZONE:Europe/Berlin
BEGIN:VEVENT
UID:1066@kleefeld-buchholz.vcp-nds.de
DTSTART;TZID=Europe/Berlin;VALUE=DATE:20260613
DTEND;TZID=Europe/Berlin;VALUE=DATE:20260614
DTSTAMP:20251229T100552Z
URL:https://kleefeld-buchholz.vcp-nds.de/veranstaltungen/misterx-2026/
SUMMARY:MisterX
DESCRIPTION:Das Spiel MisterX ist eine abgewandelte Version vom Spiel Scotl
 and Yard und verläuft durch ganz Hannover.\nDabei wird es aus allen vertr
 etenen Gruppen eine MisterX Gruppe geben\, welche vor den restlichen Grupp
 en fliehen muss. Das Ziel der Fänger-Gruppen ist es\, als erste Gruppe di
 e MisterX Gruppe zu finden und zu fangen.
CATEGORIES:VCP Bezirk Hannover,VCP Kleefeld-Buchholz
END:VEVENT
BEGIN:VTIMEZONE
TZID:Europe/Berlin
X-LIC-LOCATION:Europe/Berlin
BEGIN:DAYLIGHT
DTSTART:20260329T030000
TZOFFSETFROM:+0100
TZOFFSETTO:+0200
TZNAME:CEST
END:DAYLIGHT
END:VTIMEZONE
END:VCALENDAR