BEGIN:VCALENDAR
VERSION:2.0
PRODID:-//wp-events-plugin.com//7.2.3.1//EN
TZID:Europe/Berlin
X-WR-TIMEZONE:Europe/Berlin
BEGIN:VEVENT
UID:1056@kleefeld-buchholz.vcp-nds.de
DTSTART;TZID=Europe/Berlin;VALUE=DATE:20260522
DTEND;TZID=Europe/Berlin;VALUE=DATE:20260527
DTSTAMP:20251017T135357Z
URL:https://kleefeld-buchholz.vcp-nds.de/veranstaltungen/pfingstlager-2026
 /
SUMMARY:Pfingstlager 2026
DESCRIPTION:
CATEGORIES:VCP Bezirk Hannover,VCP Kleefeld-Buchholz
END:VEVENT
BEGIN:VTIMEZONE
TZID:Europe/Berlin
X-LIC-LOCATION:Europe/Berlin
BEGIN:DAYLIGHT
DTSTART:20260329T030000
TZOFFSETFROM:+0100
TZOFFSETTO:+0200
TZNAME:CEST
END:DAYLIGHT
END:VTIMEZONE
END:VCALENDAR