BEGIN:VCALENDAR
VERSION:2.0
PRODID:-//wp-events-plugin.com//7.2.3.1//EN
TZID:Europe/Berlin
X-WR-TIMEZONE:Europe/Berlin
BEGIN:VEVENT
UID:1078@kleefeld-buchholz.vcp-nds.de
DTSTART;TZID=Europe/Berlin;VALUE=DATE:20260630
DTEND;TZID=Europe/Berlin;VALUE=DATE:20260701
DTSTAMP:20260409T071023Z
URL:https://kleefeld-buchholz.vcp-nds.de/veranstaltungen/singeabend/
SUMMARY:Singeabend
DESCRIPTION:
CATEGORIES:VCP Bezirk Hannover
LOCATION:VCP Kleefeld-Buchholz\, Silberstraße 9A\, Hannover\, Niedersachse
 n\, 30655\, Hannover\, Deutschland
X-APPLE-STRUCTURED-LOCATION;VALUE=URI;X-ADDRESS=Silberstraße 9A\, Hannover
 \, Niedersachsen\, 30655\, Hannover\, Deutschland;X-APPLE-RADIUS=100;X-TIT
 LE=VCP Kleefeld-Buchholz:geo:0,0
END:VEVENT
BEGIN:VTIMEZONE
TZID:Europe/Berlin
X-LIC-LOCATION:Europe/Berlin
BEGIN:DAYLIGHT
DTSTART:20260329T030000
TZOFFSETFROM:+0100
TZOFFSETTO:+0200
TZNAME:CEST
END:DAYLIGHT
END:VTIMEZONE
END:VCALENDAR