BEGIN:VCALENDAR
VERSION:2.0
PRODID:-//wp-events-plugin.com//7.2.3.1//EN
TZID:Europe/Berlin
X-WR-TIMEZONE:Europe/Berlin
BEGIN:VEVENT
UID:1064@kleefeld-buchholz.vcp-nds.de
DTSTART;TZID=Europe/Berlin;VALUE=DATE:20260430
DTEND;TZID=Europe/Berlin;VALUE=DATE:20260504
DTSTAMP:20251229T095922Z
URL:https://kleefeld-buchholz.vcp-nds.de/veranstaltungen/ueberaschungsfahr
 t-2026/
SUMMARY:Überaschungsfahrt 2026
DESCRIPTION:
CATEGORIES:Chillkröten,Duracell Bären,Glühwürmchen,VCP Bezirk Hannover
END:VEVENT
BEGIN:VTIMEZONE
TZID:Europe/Berlin
X-LIC-LOCATION:Europe/Berlin
BEGIN:DAYLIGHT
DTSTART:20260329T030000
TZOFFSETFROM:+0100
TZOFFSETTO:+0200
TZNAME:CEST
END:DAYLIGHT
END:VTIMEZONE
END:VCALENDAR